BEGIN:VCALENDAR
VERSION:2.0
PRODID:-//Bay Adapt - ECPv6.2.1//NONSGML v1.0//EN
CALSCALE:GREGORIAN
METHOD:PUBLISH
X-ORIGINAL-URL:https://www.bayadapt.org
X-WR-CALDESC:Events for Bay Adapt
REFRESH-INTERVAL;VALUE=DURATION:PT1H
X-Robots-Tag:noindex
X-PUBLISHED-TTL:PT1H
BEGIN:VTIMEZONE
TZID:UTC
BEGIN:STANDARD
TZOFFSETFROM:+0000
TZOFFSETTO:+0000
TZNAME:UTC
DTSTART:20230101T000000
END:STANDARD
END:VTIMEZONE
BEGIN:VEVENT
DTSTART;TZID=UTC:20230917T120000
DTEND;TZID=UTC:20230917T160000
DTSTAMP:20260423T223330
CREATED:20230914T012004Z
LAST-MODIFIED:20230929T193055Z
UID:10000002-1694952000-1694966400@www.bayadapt.org
SUMMARY:Newark Days Celebration - Community Information Faire (Newark)
DESCRIPTION:Pop-Up Event // Regional Shoreline Adaptation Plan \nNewark Days is a four-day festival held to commemorate the birthday of the City of Newark! Join BCDC and our partners at this local community event to talk about climate change adaptation and sea level rise\, and tell us what you love about the Bay Area! \nAs part of BCDC’s Regional Shoreline Adaptation Plan\, we are creating a shared vision for the future of the Bay Area. We’re asking communities around the region to take a survey about their biggest concerns and priorities for climate adaptation along the Bay shoreline. We want you to help us reimagine our relationship to the Bay\, now and for future generations. \nWe want to hear from you! If you cannot attend this pop-up event but would like to contribute your thoughts on your values for the future of our shoreline\, please take this seven-minute survey. \nWe’ll be at the Community Information Faire on Sunday 12:00-3:30pm at Area #12 (Community Center Park). See you there! For a schedule of the events\, please visit https://newarkdays.org/schedule. \n  \nABOUT THE EVENT \nThe 2023 Newark Days Celebration will take place from Thursday\, September 14 through Sunday\, September 17. The festivities are primarily located around the MacGregor Fields and Newark Community Center located at 35501 Cedar Blvd\, Newark\, CA 94560. \nYou can learn more about this event at: https://newarkdays.org/
URL:https://www.bayadapt.org/event/newark-days-celebration-community-information-faire/
LOCATION:Newark Community Center\, 35501 Cedar Blvd.\, 35501 Cedar Blvd\, Newark\, CA\, 94560\, United States
CATEGORIES:Pop-Up Event,Regional Shoreline Adaptation Plan
ATTACH;FMTTYPE=image/jpeg:https://www.bayadapt.org/wp-content/uploads/2023/09/Newark_Event-scaled.jpg
END:VEVENT
END:VCALENDAR