BEGIN:VCALENDAR
VERSION:2.0
PRODID:-//Bay Adapt - ECPv6.2.1//NONSGML v1.0//EN
CALSCALE:GREGORIAN
METHOD:PUBLISH
X-WR-CALNAME:Bay Adapt
X-ORIGINAL-URL:https://www.bayadapt.org
X-WR-CALDESC:Events for Bay Adapt
REFRESH-INTERVAL;VALUE=DURATION:PT1H
X-Robots-Tag:noindex
X-PUBLISHED-TTL:PT1H
BEGIN:VTIMEZONE
TZID:UTC
BEGIN:STANDARD
TZOFFSETFROM:+0000
TZOFFSETTO:+0000
TZNAME:UTC
DTSTART:20230101T000000
END:STANDARD
END:VTIMEZONE
BEGIN:VEVENT
DTSTART;TZID=UTC:20231015T110000
DTEND;TZID=UTC:20231015T150000
DTSTAMP:20260423T204959
CREATED:20230914T042323Z
LAST-MODIFIED:20230929T210623Z
UID:10000008-1697367600-1697382000@www.bayadapt.org
SUMMARY:40th Anniversary of Shoreline at Mountain View Regional Park (Mountain View)
DESCRIPTION:Pop-Up Event // Regional Shoreline Adaptation Plan \nJoin BCDC and our partners at this local community event to talk about climate change adaptation and sea level rise\, and tell us what you love about the Bay Area! \nAs part of BCDC’s Regional Shoreline Adaptation Plan\, we are creating a shared vision for the future of the Bay Area. We’re asking communities around the region to take a survey about their biggest concerns and priorities for climate adaptation along the Bay shoreline. We want you to help us reimagine our relationship to the Bay\, now and for future generations. \nWe want to hear from you! If you cannot attend this pop-up event but would like to contribute your thoughts on your values for the future of our shoreline\, please take this seven-minute survey. \nWe hope to see you there! Learn more about this event athttps://www.mountainview.gov/our-city/departments/community-services/shoreline-at-mountain-view/40th-anniversary. \nABOUT THE EVENT \nThe City is hosting a free event for the community to celebrate Shoreline’s 40th anniversary. The family-friendly event will feature live music\, food\, carnival games and many other activities for the family. Shoreline – a 750-acre wildlife refuge and recreation area located on N. Shoreline Boulevard – opened to the public in 1983. The majority of its acreage is located over a closed landfill. Shoreline is located in north Mountain View along the San Francisco Bay and offers gorgeous mountain views\, exhilarating outdoor activities including golf\, biking and sailing\, and excellent habitat for a number of protected and other species including burrowing owls and monarch butterflies.
URL:https://www.bayadapt.org/event/40th-anniversary-of-shoreline-at-mountain-view-regional-park-mountain-view/
LOCATION:3070 North Shoreline Blvd\, Mountain View\, CA\, 3070 North Shoreline Blvd\, Mountain View\, CA\, 94043\, United States
CATEGORIES:Pop-Up Event,Regional Shoreline Adaptation Plan
ATTACH;FMTTYPE=image/jpeg:https://www.bayadapt.org/wp-content/uploads/2023/09/MountainView-1-scaled.jpg
END:VEVENT
END:VCALENDAR