BEGIN:VCALENDAR
VERSION:2.0
PRODID:-//Bay Adapt - ECPv6.2.1//NONSGML v1.0//EN
CALSCALE:GREGORIAN
METHOD:PUBLISH
X-WR-CALNAME:Bay Adapt
X-ORIGINAL-URL:https://www.bayadapt.org
X-WR-CALDESC:Events for Bay Adapt
REFRESH-INTERVAL;VALUE=DURATION:PT1H
X-Robots-Tag:noindex
X-PUBLISHED-TTL:PT1H
BEGIN:VTIMEZONE
TZID:UTC
BEGIN:STANDARD
TZOFFSETFROM:+0000
TZOFFSETTO:+0000
TZNAME:UTC
DTSTART:20230101T000000
END:STANDARD
END:VTIMEZONE
BEGIN:VEVENT
DTSTART;TZID=UTC:20231026T130000
DTEND;TZID=UTC:20231026T160000
DTSTAMP:20260423T204959
CREATED:20230927T173818Z
LAST-MODIFIED:20231019T161443Z
UID:10000010-1698325200-1698336000@www.bayadapt.org
SUMMARY:Regional Shoreline Adaptation Plan Public Workshop #1
DESCRIPTION:Public Workshop // Regional Shoreline Adaptation Plan \nBCDC is leading a collaborative effort to create a Regional Shoreline Adaptation Plan to support Bay communities in preparing for climate change and sea level rise. \nJoin us on Zoom for our first public workshop where practitioners from across the region will come together to explore: \n\nWhat is the Regional Shoreline Adaptation Plan and how will it support Bay Area adaptation?\nWhat does success for our region look like when it comes to adaptation for sea level rise and flooding?\nWhat do practitioners need to advance local planning in ways that are equitable\, collaborative\, and protect our communities and natural environments?\n\nWe hope you can make it and provide valuable input on the Regional Shoreline Adaptation Plan and stay involved in the collaborative project moving forward. \nPlease register in advance using this Zoom Registration Link Here. \n  \nPlease see a brief agenda below\, and use this link here to access our more detailed agenda. \nMeeting Agenda \n1:00pm – Welcome \n1:20pm – What is the Regional Shoreline Adaptation Plan (RSAP)? \n1:40pm – World Café Break-Outs: Exploring Different Aspects of the RSAP Project \n2:10pm –  Short Break \n2:20pm – Vision for a Future Bay through Sea Level Rise Adaptation \n2:35pm – Geographic Break-Outs: Discussing How Different Parts of the Region Contribute to the Regional Vision \n3:25pm – Wrap Up and Next Steps
URL:https://www.bayadapt.org/event/regional-shoreline-adaptation-plan-public-workshop-1/
LOCATION:CA
CATEGORIES:Public Workshop,Regional Shoreline Adaptation Plan
END:VEVENT
END:VCALENDAR